BEGIN:VCALENDAR
VERSION:2.0
PRODID:icalendar-ruby
CALSCALE:GREGORIAN
METHOD:PUBLISH
BEGIN:VEVENT
DTSTAMP:20260422T093904Z
UID:17-1536671@fccwarsaw.com
DTSTART:20260923T133000Z
DTEND:20260923T143000Z
CLASS:PUBLIC
CREATED:20260421T210228
DESCRIPTION:Led by Deb Parker\, assisted by Kimberly Hankins and Jane Stich
 ter.
LAST-MODIFIED:20260421T210228
LOCATION:First Christian Church Room 129
SUMMARY:Sisters in Heart
URL;VALUE=URI:https://www.fccwarsaw.com/events/sisters-in-heart/2026-09-23
ATTACH;FILENAME=Women%E2%80%99s-Bible-Study-%281%29.png;FMTTYPE=image/png:h
 ttps://dq5pwpg1q8ru0.cloudfront.net/2025/12/30/16/55/40/9770a015-9ddd-4974
 -9186-4ae3f38824c9/Women%25E2%2580%2599s-Bible-Study-%25281%2529.png
END:VEVENT
END:VCALENDAR
